BEGIN:VCALENDAR
PRODID://WordPress//Event-Post-V5.9.2//EN
VERSION:2.0
BEGIN:VTIMEZONE
TZID:UTC
BEGIN:DAYLIGHT
TZOFFSETFROM:+0100
TZOFFSETTO:0000
DTSTART:19700329T020000
RRULE:FREQ=YEARLY;BYDAY=-1SU;BYMONTH=3
END:DAYLIGHT
BEGIN:STANDARD
TZOFFSETFROM:0000
TZOFFSETTO:+0100
TZNAME:CET
DTSTART:19701025T030000
RRULE:FREQ=YEARLY;BYDAY=-1SU;BYMONTH=10
END:STANDARD
END:VTIMEZONE
BEGIN:VEVENT
SUMMARY:Yvon Provost – Vente d’Atelier
UID:https://enchereschampagne.com/auctions-4-kuv883-yvon-provost-vente-datelier/
LOCATION:
DTSTAMP:20260505T180000
DTSTART;TZID=UTC:20260505T180000
DTEND;TZID=UTC:20260505T190000
DESCRIPTION:5 Mai 2026, 18:00
END:VEVENT
END:VCALENDAR